BEGIN:VCALENDAR
VERSION:2.0
PRODID:-//Calvary-Grace Church - ECPv6.15.3//NONSGML v1.0//EN
CALSCALE:GREGORIAN
METHOD:PUBLISH
X-ORIGINAL-URL:https://calvary-gracechurchmonrovia.com
X-WR-CALDESC:Events for Calvary-Grace Church
REFRESH-INTERVAL;VALUE=DURATION:PT1H
X-Robots-Tag:noindex
X-PUBLISHED-TTL:PT1H
BEGIN:VTIMEZONE
TZID:UTC
BEGIN:STANDARD
TZOFFSETFROM:+0000
TZOFFSETTO:+0000
TZNAME:UTC
DTSTART:20160101T000000
END:STANDARD
END:VTIMEZONE
BEGIN:VTIMEZONE
TZID:America/Los_Angeles
BEGIN:DAYLIGHT
TZOFFSETFROM:-0800
TZOFFSETTO:-0700
TZNAME:PDT
DTSTART:20240310T100000
END:DAYLIGHT
BEGIN:STANDARD
TZOFFSETFROM:-0700
TZOFFSETTO:-0800
TZNAME:PST
DTSTART:20241103T090000
END:STANDARD
END:VTIMEZONE
BEGIN:VEVENT
DTSTART;TZID=UTC:20251213T110000
DTEND;TZID=UTC:20251213T130000
DTSTAMP:20260423T153905
CREATED:20251210T204036Z
LAST-MODIFIED:20251210T204039Z
UID:5913-1765623600-1765630800@calvary-gracechurchmonrovia.com
SUMMARY:Ladies Christmas Luncheon
DESCRIPTION:This Years Ladies Christmas Luncheon will be this Saturday\, December 13th from 11am to 1pm. \nThe theme this year will be “Christmas In His Times”. \nWe will have a fun background and costumes to see how many ways we can recreate the Nativity Scene. \nMenu: Shepherd’s Pie\, a Salad Bar\, various treats from His times\, and of course Cheesecake.\n*Please remember to bring a wrapped\, new gift for our “white Elephant” gift exchange. \n          \n                                    
URL:https://calvary-gracechurchmonrovia.com/event/ladies-christmas-luncheon/
LOCATION:Calvary-Grace Church\, 2520 S. Peck Road\, Monrovia\, CA\, 91016\, United States
ORGANIZER;CN="Rose Dorantes":MAILTO:R.Dorantes@Calvary-GraceChurchMonrovia.com
END:VEVENT
BEGIN:VEVENT
DTSTART;TZID=UTC:20250707T170000
DTEND;TZID=UTC:20250711T193000
DTSTAMP:20260423T153905
CREATED:20250702T183923Z
LAST-MODIFIED:20250702T183923Z
UID:5731-1751907600-1752262200@calvary-gracechurchmonrovia.com
SUMMARY:Vacation Bible School 2025
DESCRIPTION:Vacation Bible School 2025 will be next week\, July 7-11 from 5 to 7:30 PM. \n \nWe will start each day off with a lite meal and crafts followed by our program which will be provided by our V.B.S./5 Day Club partners of the last few years the Child Evangelism Fellowship team. \nREGISTER ONLINE: cefsgv.org/register/5dc-cgc    \n 
URL:https://calvary-gracechurchmonrovia.com/event/vacation-bible-school-2025/
LOCATION:Calvary-Grace Church\, 2520 S. Peck Road\, Monrovia\, CA\, 91016\, United States
CATEGORIES:V.B.S.
ORGANIZER;CN="Rose Dorantes":MAILTO:R.Dorantes@Calvary-GraceChurchMonrovia.com
END:VEVENT
BEGIN:VEVENT
DTSTART;TZID=UTC:20250420T090000
DTEND;TZID=UTC:20250420T110000
DTSTAMP:20260423T153905
CREATED:20250409T171811Z
LAST-MODIFIED:20250409T171811Z
UID:5621-1745139600-1745146800@calvary-gracechurchmonrovia.com
SUMMARY:Easter Sunday Service and Breakfast
DESCRIPTION:Easter is almost here!Come join us in celebrating our Risen Lord! And don’t forget to invite your family and friends to take part in our Easter Activities. Activities include our Easter Breakfast which will be at 9am followed be our Easter Sunday Service and Children’s church which will include a kid’s egg hunt!
URL:https://calvary-gracechurchmonrovia.com/event/easter-sunday-service-and-breakfast/
LOCATION:Calvary-Grace Church\, 2520 S. Peck Road\, Monrovia\, CA\, 91016\, United States
ORGANIZER;CN="Rose Dorantes":MAILTO:R.Dorantes@Calvary-GraceChurchMonrovia.com
END:VEVENT
BEGIN:VEVENT
DTSTART;TZID=UTC:20241126T190000
DTEND;TZID=UTC:20241126T203000
DTSTAMP:20260423T153905
CREATED:20241114T191611Z
LAST-MODIFIED:20241114T191611Z
UID:5459-1732647600-1732653000@calvary-gracechurchmonrovia.com
SUMMARY:Pie\, Prayer and Praise
DESCRIPTION:Pie Prayer and Praise is one of our favorite nights of the year. \nPlease join us on Tuesday November 26th\, enjoy great fellowship around praise\, prayer and pie.              We ask that you have a hymn and what you are thankful for in mind\, and to bring your favorite pie to share.          
URL:https://calvary-gracechurchmonrovia.com/event/pie-prayer-and-praise-2/
LOCATION:Calvary-Grace Church\, 2520 S. Peck Road\, Monrovia\, CA\, 91016\, United States
ATTACH;FMTTYPE=image/jpeg:https://calvary-gracechurchmonrovia.com/wp-content/uploads/2024/11/1731611579198.jpeg
END:VEVENT
BEGIN:VEVENT
DTSTART;TZID=UTC:20240708T170000
DTEND;TZID=UTC:20240708T193000
DTSTAMP:20260423T153905
CREATED:20240703T155450Z
LAST-MODIFIED:20240703T155452Z
UID:5308-1720458000-1720467000@calvary-gracechurchmonrovia.com
SUMMARY:Vacation Bible School
DESCRIPTION:Vacation Bible School is July 8-12 from 5 to 7:30 PM. \nWe will start each day off with a lite meal and crafts followed by our program which will be provided by our V.B.S./5 Day Club partners of the last few years the Child Evangelism Fellowship team. \nREGISTER ONLINE: cefsgv.org/register/5dc-cgc
URL:https://calvary-gracechurchmonrovia.com/event/vacation-bible-school/
LOCATION:Calvary-Grace Church\, 2520 S. Peck Road\, Monrovia\, CA\, 91016\, United States
CATEGORIES:V.B.S.
END:VEVENT
BEGIN:VEVENT
DTSTART;TZID=UTC:20240629T090000
DTEND;TZID=UTC:20240629T103000
DTSTAMP:20260423T153905
CREATED:20240626T171421Z
LAST-MODIFIED:20240626T171718Z
UID:5296-1719651600-1719657000@calvary-gracechurchmonrovia.com
SUMMARY:June Men's Breakfast
DESCRIPTION:Our June Men’s Breakfast will be this Saturday\, June 29th.Men’s Breakfast is our monthly Men’s Bible study. We meet on the last Saturday of each month from 9am to 10:30 am and enjoy a warm meal and fellowship with Brothers. \nBreakfast will be ready at 9am followed by the men’s bible study group.
URL:https://calvary-gracechurchmonrovia.com/event/june-mens-breakfast/
LOCATION:Calvary-Grace Church\, 2520 S. Peck Road\, Monrovia\, CA\, 91016\, United States
END:VEVENT
BEGIN:VEVENT
DTSTART;TZID=America/Los_Angeles:20240331T090000
DTEND;TZID=America/Los_Angeles:20240331T110000
DTSTAMP:20260423T153905
CREATED:20240326T195058Z
LAST-MODIFIED:20240326T195058Z
UID:5171-1711875600-1711882800@calvary-gracechurchmonrovia.com
SUMMARY:Easter Sunday
DESCRIPTION:Easter is this Sunday\, can you believe it? So\, invite your friends and family to our special Easter Sunday Breakfast and Easter Service. The breakfast will start at 9am followed by our Easter Service and Children’s Church at 10am. There will be a Easter egg hunt for the kids during Children’s Church time.
URL:https://calvary-gracechurchmonrovia.com/event/easter-sunday/
LOCATION:Calvary-Grace Church\, 2520 S. Peck Road\, Monrovia\, CA\, 91016\, United States
END:VEVENT
BEGIN:VEVENT
DTSTART;TZID=America/Los_Angeles:20240330T090000
DTEND;TZID=America/Los_Angeles:20240330T103000
DTSTAMP:20260423T153905
CREATED:20240326T195736Z
LAST-MODIFIED:20240326T195736Z
UID:5174-1711789200-1711794600@calvary-gracechurchmonrovia.com
SUMMARY:March Men's Breakfast
DESCRIPTION:This month’s Men’s Breakfast with Pastor Bob will be on Saturday March 30th at 9am\, in the church basement. Our men’s breakfast if a time each month for the men of our church and community to come together and fellowship over their faith and good food.     \n   
URL:https://calvary-gracechurchmonrovia.com/event/march-mens-breakfast/
LOCATION:Calvary-Grace Church\, 2520 S. Peck Road\, Monrovia\, CA\, 91016\, United States
END:VEVENT
BEGIN:VEVENT
DTSTART;TZID=UTC:20240210T100000
DTEND;TZID=UTC:20240210T233000
DTSTAMP:20260423T153905
CREATED:20240207T180513Z
LAST-MODIFIED:20240207T181057Z
UID:5102-1707559200-1707607800@calvary-gracechurchmonrovia.com
SUMMARY:February Men's Breakfast
DESCRIPTION:This months Men’s Breakfast with Pastor Bob will be on Saturday Feb 10th from 10 am to 11:30 am in the church basement.
URL:https://calvary-gracechurchmonrovia.com/event/february-mens-breakfast/
LOCATION:Calvary-Grace Church\, 2520 S. Peck Road\, Monrovia\, CA\, 91016\, United States
END:VEVENT
BEGIN:VEVENT
DTSTART;TZID=UTC:20231121T190000
DTEND;TZID=UTC:20231121T203000
DTSTAMP:20260423T153905
CREATED:20231115T191125Z
LAST-MODIFIED:20231115T191126Z
UID:5007-1700593200-1700598600@calvary-gracechurchmonrovia.com
SUMMARY:Pie Prayer and Praise
DESCRIPTION:Pie Prayer and Praise is one of our favorite nights of the year. Please join us on Tuesday November 21st from 7 to 8:30 pm\, enjoy great fellowship around praise\, prayer and pie. We ask that you have a hymn in mind\, what you are thankful for and your favorite pie to share.
URL:https://calvary-gracechurchmonrovia.com/event/pie-prayer-and-praise/
LOCATION:Calvary-Grace Church\, 2520 S. Peck Road\, Monrovia\, CA\, 91016\, United States
ATTACH;FMTTYPE=image/jpeg:https://calvary-gracechurchmonrovia.com/wp-content/uploads/2023/11/2023PiePraise_Social_NoLogo-1.jpg
END:VEVENT
BEGIN:VEVENT
DTSTART;TZID=UTC:20231028T090000
DTEND;TZID=UTC:20231028T103000
DTSTAMP:20260423T153905
CREATED:20231025T163655Z
LAST-MODIFIED:20231025T171357Z
UID:4976-1698483600-1698489000@calvary-gracechurchmonrovia.com
SUMMARY:October Men's Breakfast
DESCRIPTION:The October Men’s Breakfast will be this Saturday\, October 28th\nThe topic of this months bible study will be “Do you worry?”\nThe Men’s Breakfast is our monthly Men’s Bible study. We meet on the last Saturday of each month from 9am to 10:30 am and enjoy a warm meal and fellowship. Breakfast will be ready at 9am followed by the men’s bible study group.
URL:https://calvary-gracechurchmonrovia.com/event/october-mens-breakfast/
LOCATION:Calvary-Grace Church\, 2520 S. Peck Road\, Monrovia\, CA\, 91016\, United States
ATTACH;FMTTYPE=image/jpeg:https://calvary-gracechurchmonrovia.com/wp-content/uploads/2023/10/9150141597628141542.jpg
END:VEVENT
BEGIN:VEVENT
DTSTART;TZID=UTC:20230624T090000
DTEND;TZID=UTC:20230624T103000
DTSTAMP:20260423T153905
CREATED:20230606T174128Z
LAST-MODIFIED:20230606T183841Z
UID:4740-1687597200-1687602600@calvary-gracechurchmonrovia.com
SUMMARY:Men's Breakfast
DESCRIPTION:This will be the final breakfast of this series of Men’s Breakfasts with Pastor Bob. The lesson for this event will be on Hope\, the breakfast will be on Saturday June 24 from 9AM to 10:30AM.
URL:https://calvary-gracechurchmonrovia.com/event/mens-breakfast/
LOCATION:Calvary-Grace Church\, 2520 S. Peck Road\, Monrovia\, CA\, 91016\, United States
END:VEVENT
BEGIN:VEVENT
DTSTART;TZID=UTC:20210712T170000
DTEND;TZID=UTC:20210716T193000
DTSTAMP:20260423T153905
CREATED:20210701T205020Z
LAST-MODIFIED:20210701T205020Z
UID:3616-1626109200-1626463800@calvary-gracechurchmonrovia.com
SUMMARY:Vacation Bible School 2021
DESCRIPTION:We will be teaming up with C.E.F. once again this summer to put on our annual V.B.S./5 Day Club.  We will be meeting in the basement each evening July 12th-16th from 5pm to 7:30pm. Each evening we will have our Lesson time\, games\, dinner and arts and crafts time. This event is mainly for kids ages 5-12 but\, we also encourage our older kids to speak with Rita about leadership opportunities.
URL:https://calvary-gracechurchmonrovia.com/event/vacation-bible-school-2021/
LOCATION:Calvary-Grace Church\, 2520 S. Peck Road\, Monrovia\, CA\, 91016\, United States
END:VEVENT
BEGIN:VEVENT
DTSTART;TZID=UTC:20161210T110000
DTEND;TZID=UTC:20161210T130000
DTSTAMP:20260423T153905
CREATED:20161205T204528Z
LAST-MODIFIED:20161205T204528Z
UID:27-1481367600-1481374800@calvary-gracechurchmonrovia.com
SUMMARY:Ladies Christmas Luncheon/ Children's Christmas Party
DESCRIPTION:This Year Instead of doing a Dinner as we normally do we have decided to have a luncheon for our ladies instead. We pray that this is just as pleasing as our past events. We will also be hosting a Christmas Party for the Children at the same time in the play area of the church. Both events will be taking place on Dec. 10th from 11:00AM to 1:00PM. \n  Ladies Christmas Luncheon \nOur theme this year is going to be Christmas Fun and will include \n\nCasual Atmosphere \nDelicious Meal\nSharing From The Heart\nCookie decorating\n\nUltimate Kids Christmas party \n\nBible Story\nFun Songs\nLunch\nParty Games\nCookie Decorating\n\nIf you have any questions please call (626) 671-9176 \n  \n 
URL:https://calvary-gracechurchmonrovia.com/event/ladies-christmas-luncheon-childrens-christmas-party/
LOCATION:Calvary-Grace Church\, 2520 S. Peck Road\, Monrovia\, CA\, 91016\, United States
ORGANIZER;CN="Rose Dorantes":MAILTO:R.Dorantes@Calvary-GraceChurchMonrovia.com
END:VEVENT
END:VCALENDAR