BEGIN:VCALENDAR
VERSION:2.0
PRODID:-//Calvary-Grace Church - ECPv6.15.3//NONSGML v1.0//EN
CALSCALE:GREGORIAN
METHOD:PUBLISH
X-ORIGINAL-URL:https://calvary-gracechurchmonrovia.com
X-WR-CALDESC:Events for Calvary-Grace Church
REFRESH-INTERVAL;VALUE=DURATION:PT1H
X-Robots-Tag:noindex
X-PUBLISHED-TTL:PT1H
BEGIN:VTIMEZONE
TZID:UTC
BEGIN:STANDARD
TZOFFSETFROM:+0000
TZOFFSETTO:+0000
TZNAME:UTC
DTSTART:20160101T000000
END:STANDARD
END:VTIMEZONE
BEGIN:VEVENT
DTSTART;TZID=UTC:20231028T090000
DTEND;TZID=UTC:20231028T103000
DTSTAMP:20260423T171129
CREATED:20231025T163655Z
LAST-MODIFIED:20231025T171357Z
UID:4976-1698483600-1698489000@calvary-gracechurchmonrovia.com
SUMMARY:October Men's Breakfast
DESCRIPTION:The October Men’s Breakfast will be this Saturday\, October 28th\nThe topic of this months bible study will be “Do you worry?”\nThe Men’s Breakfast is our monthly Men’s Bible study. We meet on the last Saturday of each month from 9am to 10:30 am and enjoy a warm meal and fellowship. Breakfast will be ready at 9am followed by the men’s bible study group.
URL:https://calvary-gracechurchmonrovia.com/event/october-mens-breakfast/
LOCATION:Calvary-Grace Church\, 2520 S. Peck Road\, Monrovia\, CA\, 91016\, United States
ATTACH;FMTTYPE=image/jpeg:https://calvary-gracechurchmonrovia.com/wp-content/uploads/2023/10/9150141597628141542.jpg
END:VEVENT
BEGIN:VEVENT
DTSTART;TZID=UTC:20230624T090000
DTEND;TZID=UTC:20230624T103000
DTSTAMP:20260423T171129
CREATED:20230606T174128Z
LAST-MODIFIED:20230606T183841Z
UID:4740-1687597200-1687602600@calvary-gracechurchmonrovia.com
SUMMARY:Men's Breakfast
DESCRIPTION:This will be the final breakfast of this series of Men’s Breakfasts with Pastor Bob. The lesson for this event will be on Hope\, the breakfast will be on Saturday June 24 from 9AM to 10:30AM.
URL:https://calvary-gracechurchmonrovia.com/event/mens-breakfast/
LOCATION:Calvary-Grace Church\, 2520 S. Peck Road\, Monrovia\, CA\, 91016\, United States
END:VEVENT
BEGIN:VEVENT
DTSTART;TZID=UTC:20210712T170000
DTEND;TZID=UTC:20210716T193000
DTSTAMP:20260423T171129
CREATED:20210701T205020Z
LAST-MODIFIED:20210701T205020Z
UID:3616-1626109200-1626463800@calvary-gracechurchmonrovia.com
SUMMARY:Vacation Bible School 2021
DESCRIPTION:We will be teaming up with C.E.F. once again this summer to put on our annual V.B.S./5 Day Club.  We will be meeting in the basement each evening July 12th-16th from 5pm to 7:30pm. Each evening we will have our Lesson time\, games\, dinner and arts and crafts time. This event is mainly for kids ages 5-12 but\, we also encourage our older kids to speak with Rita about leadership opportunities.
URL:https://calvary-gracechurchmonrovia.com/event/vacation-bible-school-2021/
LOCATION:Calvary-Grace Church\, 2520 S. Peck Road\, Monrovia\, CA\, 91016\, United States
END:VEVENT
BEGIN:VEVENT
DTSTART;TZID=UTC:20161210T110000
DTEND;TZID=UTC:20161210T130000
DTSTAMP:20260423T171129
CREATED:20161205T204528Z
LAST-MODIFIED:20161205T204528Z
UID:27-1481367600-1481374800@calvary-gracechurchmonrovia.com
SUMMARY:Ladies Christmas Luncheon/ Children's Christmas Party
DESCRIPTION:This Year Instead of doing a Dinner as we normally do we have decided to have a luncheon for our ladies instead. We pray that this is just as pleasing as our past events. We will also be hosting a Christmas Party for the Children at the same time in the play area of the church. Both events will be taking place on Dec. 10th from 11:00AM to 1:00PM. \n  Ladies Christmas Luncheon \nOur theme this year is going to be Christmas Fun and will include \n\nCasual Atmosphere \nDelicious Meal\nSharing From The Heart\nCookie decorating\n\nUltimate Kids Christmas party \n\nBible Story\nFun Songs\nLunch\nParty Games\nCookie Decorating\n\nIf you have any questions please call (626) 671-9176 \n  \n 
URL:https://calvary-gracechurchmonrovia.com/event/ladies-christmas-luncheon-childrens-christmas-party/
LOCATION:Calvary-Grace Church\, 2520 S. Peck Road\, Monrovia\, CA\, 91016\, United States
ORGANIZER;CN="Rose Dorantes":MAILTO:R.Dorantes@Calvary-GraceChurchMonrovia.com
END:VEVENT
END:VCALENDAR